BEGIN:VCALENDAR
PRODID:-//eluceo/ical//2.0/EN
VERSION:2.0
CALSCALE:GREGORIAN
BEGIN:VEVENT
UID:decc5c7e398231d6635b2b47df6d17c0
DTSTAMP:20260419T230029Z
SUMMARY:Book Discussion - A Tree Grows In Brooklyn by Betty Smith
DESCRIPTION:Jewish Federation & Foundation of Rockland County\nAdult Jewish
  Education\nhttps://jewishrockland.org/adult-jewish-education/book-discuss
 ion---a-tree-grows-in-brooklyn-by-betty-smith-1602779930\n\nThe Reform Tem
 ple of Rockland's Adult Education Committee offers a Book Discussion. Read
  'A Tree Grows in Brooklyn' by Betty Smith and then join the discussion vi
 a Zoom. Call the temple office to register.
DTSTART;TZID=America/New_York:20201209T180000
DTEND;TZID=America/New_York:20201209T190000
END:VEVENT
END:VCALENDAR
