BEGIN:VCALENDAR
PRODID:-//eluceo/ical//2.0/EN
VERSION:2.0
CALSCALE:GREGORIAN
BEGIN:VEVENT
UID:04419d5076adef3f7790fb3885118380
DTSTAMP:20260423T190750Z
SUMMARY:CSI Summer Adult Ed with Esther Cember
DESCRIPTION:Jewish Federation & Foundation of Rockland County\nAdult Jewish
  Education\nhttps://jewishrockland.org/adult-jewish-education/csi-summer-a
 dult-ed-with-esther-cember-1655308029-409259\n\nLearn with Esther Cember :
  Bible Stories from a Cultural and Alternative Point of View.\nMust RSVP t
 o office@csinyack.org 
DTSTART;TZID=America/New_York:20220701T110000
DTEND;TZID=America/New_York:20220812T123000
END:VEVENT
END:VCALENDAR
