BEGIN:VCALENDAR
PRODID:-//eluceo/ical//2.0/EN
VERSION:2.0
CALSCALE:GREGORIAN
BEGIN:VEVENT
UID:abca242ce8fc8143186d82dd90280dae
DTSTAMP:20260422T053531Z
SUMMARY:F1. Issues in American Jewish Society
DESCRIPTION:Jewish Federation & Foundation of Rockland County\nAdult Jewish
  Education\nhttps://jewishrockland.org/adult-jewish-education/f1-issues-in
 -american-jewish-society-1599765695\n\nWhy are so many people fascinated w
 ith the Netflix series’ "Unorthodox" and "Shtisel"? Do these series give
  an accurate portrayal of Haredi (Ultra-Orthodox) life? How are the differ
 ent characters portrayed in these productions? What are the origins of the
  Palestinian-led Boycott Divestment and Sanctions (BDS) movement? What doe
 s it mean to boycott Israel? What is in the BDS bill in Congress? Are Amer
 ican Jews still strong supporters of Israel? What issues could diminish th
 eir support for th...
DTSTART;TZID=America/New_York:20200930T093000
DTEND;TZID=America/New_York:20200930T104500
END:VEVENT
END:VCALENDAR
