BEGIN:VCALENDAR
PRODID:-//eluceo/ical//2.0/EN
VERSION:2.0
CALSCALE:GREGORIAN
BEGIN:VEVENT
UID:2d29812772954217c43c220f65a06f54
DTSTAMP:20260425T024307Z
SUMMARY:Global Day of Jewish Learning 2022
DESCRIPTION:Jewish Federation & Foundation of Rockland County\nAdult Jewish
  Education\nhttps://jewishrockland.org/adult-jewish-education/global-day-o
 f-jewish-learning\n\nJoin us Sunday\, November 13 for the annual Global Da
 y of Jewish Learning\, as our Rockland Jewish community joins with communi
 ties on six continents in a free day of Jewish study!\nThis year's theme i
 s Rebuilding. After two and a half years of pandemic\, wars\, and the ever
 -present realities of turmoil in our personal lives\, our educators will g
 uide us through how Jewish tradition approaches the moments after destruct
 ion\, change\, and devastation. How do we rebuild society? How do we rebui
 ld our...
DTSTART;TZID=America/New_York:20221113T093000
DTEND;TZID=America/New_York:20221113T130000
END:VEVENT
END:VCALENDAR
