BEGIN:VCALENDAR
PRODID:-//eluceo/ical//2.0/EN
VERSION:2.0
CALSCALE:GREGORIAN
BEGIN:VEVENT
UID:555b9b5e9ea9da6b16a1cc5613ae8878
DTSTAMP:20260420T064608Z
SUMMARY:Introduction to Jewish Prayer
DESCRIPTION:Jewish Federation & Foundation of Rockland County\nAdult Jewish
  Education\nhttps://jewishrockland.org/adult-jewish-education/introduction
 -to-jewish-prayer-1739285795\n\nJoin Rabbi Scheff at Orangetown Jewish Cen
 ter for an Introduction to Jewish Prayer
DTSTART;TZID=America/New_York:20250304T170000
DTEND;TZID=America/New_York:20250304T180000
END:VEVENT
END:VCALENDAR
