BEGIN:VCALENDAR
PRODID:-//eluceo/ical//2.0/EN
VERSION:2.0
CALSCALE:GREGORIAN
BEGIN:VEVENT
UID:ce01e1613384417abd6a43bf88866700
DTSTAMP:20260423T222751Z
SUMMARY:Introduction to Jewish Prayer
DESCRIPTION:Jewish Federation & Foundation of Rockland County\nAdult Jewish
  Education\nhttps://jewishrockland.org/adult-jewish-education/introduction
 -to-jewish-prayer-1739286167\n\nJoin Rabbi Scheff for an Introduction to J
 ewish Prayer
DTSTART;TZID=America/New_York:20250506T170000
DTEND;TZID=America/New_York:20250506T180000
END:VEVENT
END:VCALENDAR
