BEGIN:VCALENDAR
PRODID:-//eluceo/ical//2.0/EN
VERSION:2.0
CALSCALE:GREGORIAN
BEGIN:VEVENT
UID:ff0d07b1441b77e138903d7b4380811e
DTSTAMP:20260421T192602Z
SUMMARY:Introduction to Judaism 101 at CSI
DESCRIPTION:Jewish Federation & Foundation of Rockland County\nAdult Jewish
  Education\nhttps://jewishrockland.org/adult-jewish-education/introduction
 -to-judaism-101-at-csi-478163\n\nJoin Rabbi Russo on a journey covering th
 e most important topics that every Jew (and non-Jew) should know about Jud
 aism!
DTSTART;TZID=America/New_York:20241219T200000
DTEND;TZID=America/New_York:20241219T213000
END:VEVENT
END:VCALENDAR
