BEGIN:VCALENDAR
PRODID:-//eluceo/ical//2.0/EN
VERSION:2.0
CALSCALE:GREGORIAN
BEGIN:VEVENT
UID:67c3657c980895f3fe72966cb79aa2df
DTSTAMP:20260421T192552Z
SUMMARY:Introduction to Judaism 101 at CSI
DESCRIPTION:Jewish Federation & Foundation of Rockland County\nAdult Jewish
  Education\nhttps://jewishrockland.org/adult-jewish-education/introduction
 -to-judaism-101-at-csi-mar-478167\n\nJoin Rabbi Russo on a journey coverin
 g the most important topics that every Jew (and non-Jew) should know about
  Judaism!
DTSTART;TZID=America/New_York:20250320T200000
DTEND;TZID=America/New_York:20250320T213000
END:VEVENT
END:VCALENDAR
