BEGIN:VCALENDAR
PRODID:-//eluceo/ical//2.0/EN
VERSION:2.0
CALSCALE:GREGORIAN
BEGIN:VEVENT
UID:d07075943614e4281a09db09424aa6dc
DTSTAMP:20260420T214107Z
SUMMARY:Israeli Dance class
DESCRIPTION:Jewish Federation & Foundation of Rockland County\nAdult Jewish
  Education\nhttps://jewishrockland.org/adult-jewish-education/israeli-danc
 e-class\n\nPlease contact the instructor to register for the class and rec
 eive other important details
DTSTART;TZID=America/New_York:20230524T184500
DTEND;TZID=America/New_York:20230524T200000
END:VEVENT
END:VCALENDAR
