BEGIN:VCALENDAR
PRODID:-//eluceo/ical//2.0/EN
VERSION:2.0
CALSCALE:GREGORIAN
BEGIN:VEVENT
UID:59557f7038f22a491b61337731abb3c6
DTSTAMP:20260426T030815Z
SUMMARY:Israeli Dance class
DESCRIPTION:Jewish Federation & Foundation of Rockland County\nAdult Jewish
  Education\nhttps://jewishrockland.org/adult-jewish-education/israeli-danc
 e-class-1665067414-419326\n\nLeng has been teaching in the tri state for o
 ver 30 years.  She offers classes in Stamford and New Haven\, Connecticut.
   She plans to also offer classes in Westchester.   Leng has also taught m
 iddle and high schools at Solomon Schechter in Hartsdale\, New York.\n\nLe
 ng is available for community synagogue events as well as private events (
 Bar/Bat Mitzvahs\, birthday\, bridal showers\, weddings).
DTSTART;TZID=America/New_York:20221026T184500
DTEND;TZID=America/New_York:20221026T194500
END:VEVENT
END:VCALENDAR
