BEGIN:VCALENDAR
PRODID:-//eluceo/ical//2.0/EN
VERSION:2.0
CALSCALE:GREGORIAN
BEGIN:VEVENT
UID:29baabfcff1b62caaf13761b201eb4a4
DTSTAMP:20260421T191927Z
SUMMARY:Israeli Dance class
DESCRIPTION:Jewish Federation & Foundation of Rockland County\nAdult Jewish
  Education\nhttps://jewishrockland.org/adult-jewish-education/israeli-danc
 e-class-1693846917\n\nInstructor has been teaching in the tri-state area f
 or over 30 years.  She regularly teaches in New Haven at the JCC\, in Nyac
 k at Congregation Sons of Israel and in Stamford at Temple Beth El.\n\nShe
  is available for private group instruction\, special events at synagogues
 \, assisted living venues\, weddings\, bar/bat mitzvahs\, bridal showers\,
  weddings\, graduations\, birthday parties\; etc.\n\nWebsite:  www.ctisrae
 lidance.com
DTSTART;TZID=America/New_York:20231011T184500
DTEND;TZID=America/New_York:20231011T194500
END:VEVENT
END:VCALENDAR
