BEGIN:VCALENDAR
PRODID:-//eluceo/ical//2.0/EN
VERSION:2.0
CALSCALE:GREGORIAN
BEGIN:VEVENT
UID:369c92e1cbb77d9a521f327eebd59fda
DTSTAMP:20260423T155022Z
SUMMARY:Jewish Day of Global Learning
DESCRIPTION:Jewish Federation & Foundation of Rockland County\nAdult Jewish
  Education\nhttps://jewishrockland.org/adult-jewish-education/jewish-day-o
 f-global-learning-1603995157-366807\n\nGDJL is a project of Limmud North A
 merica and is dedicated to connecting people of all Jewish backgrounds to 
 learn from and with the rabbinic bodies of all the denominations\, for pro
 moting the Global Day to their constituencies.
DTSTART;TZID=America/New_York:20201108T093000
DTEND;TZID=America/New_York:20201108T130000
END:VEVENT
END:VCALENDAR
