BEGIN:VCALENDAR
PRODID:-//eluceo/ical//2.0/EN
VERSION:2.0
CALSCALE:GREGORIAN
BEGIN:VEVENT
UID:1dcd1e828dcfae51c9876661d59b9469
DTSTAMP:20260423T092500Z
SUMMARY:Jewish INvolvement in American Popular Musid
DESCRIPTION:Jewish Federation & Foundation of Rockland County\nAdult Jewish
  Education\nhttps://jewishrockland.org/adult-jewish-education/jewish-invol
 vement-in-american-popular-musid-1620224774\n\nOver the course of four wee
 ks\, we will look at the history of Jewish involvement in American popular
  music – starting as early as the mid-19th century and following up thro
 ugh the modern period. From post-civil war Jewish songwriting to Tin Pan A
 lley to Broadway\, the Brill building\, Chicago and Philadelphia\, we will
  come to understand how Jews helped shape American popular music. Our sess
 ions will provide overviews of the lives of Berlin and Gerswhin\, the Jewi
 sh part of Woodstock and even t...
DTSTART;TZID=America/New_York:20210603T093000
DTEND;TZID=America/New_York:20210603T104500
END:VEVENT
END:VCALENDAR
