BEGIN:VCALENDAR
PRODID:-//eluceo/ical//2.0/EN
VERSION:2.0
CALSCALE:GREGORIAN
BEGIN:VEVENT
UID:ffa9947a3f0799485783dbecfbd34c2a
DTSTAMP:20260421T230929Z
SUMMARY:Kulanu Havdalah Bingo
DESCRIPTION:Jewish Federation & Foundation of Rockland County\nAdult Jewish
  Education\nhttps://jewishrockland.org/adult-jewish-education/kulanu-havda
 lah-bingo-1768501991\n\nThanks for supporting the OJC’s Kulanu program b
 y attending this fun\, annual event. The evening will begin with a communi
 ty Havdalah ceremony at 6:30\, and at 7:00 we’ll start playing BINGO\, c
 omplete with prizes and light refreshments. Please invite your friends fro
 m OJC and beyond. We’re excited for you to join us!\n\nA Family Set of 4
  Bingo card packs is $18. ALL REGISTERING FAMILIES NEED THE FAMILY SET OF 
 4 AS A MINIMUM TO PARTICIPATE. Additional card packs will be available for
  $3...
DTSTART;TZID=America/New_York:20260124T190000
DTEND;TZID=America/New_York:20260124T210000
END:VEVENT
END:VCALENDAR
