BEGIN:VCALENDAR
PRODID:-//eluceo/ical//2.0/EN
VERSION:2.0
CALSCALE:GREGORIAN
BEGIN:VEVENT
UID:5c3bdee9b9d6afffaf9aad0235c4f06f
DTSTAMP:20260420T062755Z
SUMMARY:Monday Lunch and Learn
DESCRIPTION:Jewish Federation & Foundation of Rockland County\nAdult Jewish
  Education\nhttps://jewishrockland.org/adult-jewish-education/monday-lunch
 -and-learn-1733854386-481935\n\nWeekly in-person Lunch n Learn series\, pa
 rt II.\nA continuation of last year’s study: The Time-Line of Jewish His
 tory from Joshua to the Modern State of Israel. You do not need to have pa
 rticipated last year to join!\nBYO dairy lunch or snack. Coffee and tea pr
 ovided.
DTSTART;TZID=America/New_York:20241230T120000
DTEND;TZID=America/New_York:20241230T130000
END:VEVENT
END:VCALENDAR
