BEGIN:VCALENDAR
PRODID:-//eluceo/ical//2.0/EN
VERSION:2.0
CALSCALE:GREGORIAN
BEGIN:VEVENT
UID:b86bff0e176a7cda52cb643c79b87626
DTSTAMP:20260419T181210Z
SUMMARY:NCJC's Torah Line-by-Line
DESCRIPTION:Jewish Federation & Foundation of Rockland County\nAdult Jewish
  Education\nhttps://jewishrockland.org/adult-jewish-education/ncjcs-torah-
 line-by-line-1604066657\n\nRead line by line through the Torah for a "deep
  dive" into Judaism's most sacred text. This slow moving class focusses di
 scussion on our own understanding of the Torah while bringing to light his
 torical context and traditional Jewish interpretations.
DTSTART;TZID=America/New_York:20201105T143000
DTEND;TZID=America/New_York:20201105T153000
END:VEVENT
END:VCALENDAR
