BEGIN:VCALENDAR
PRODID:-//eluceo/ical//2.0/EN
VERSION:2.0
CALSCALE:GREGORIAN
BEGIN:VEVENT
UID:fcc3e23d0713a0daffaa9660a2ed7846
DTSTAMP:20260424T094352Z
SUMMARY:OJC's Every Month a Holiday
DESCRIPTION:Jewish Federation & Foundation of Rockland County\nAdult Jewish
  Education\nhttps://jewishrockland.org/adult-jewish-education/ojcs-every-m
 onth-a-holiday-1770905298-510998\n\nJoin Rabbi Scheff and learn about the 
 Jewish Holidays and how we celebrate and observe them.
DTSTART;TZID=America/New_York:20260310T170000
DTEND;TZID=America/New_York:20260310T180000
END:VEVENT
END:VCALENDAR
