BEGIN:VCALENDAR
PRODID:-//eluceo/ical//2.0/EN
VERSION:2.0
CALSCALE:GREGORIAN
BEGIN:VEVENT
UID:dc70d2612e450041074c4a3285dcee18
DTSTAMP:20260420T222249Z
SUMMARY:Orangetown Jewish Center Pride Shabbat weekend
DESCRIPTION:Jewish Federation & Foundation of Rockland County\nAdult Jewish
  Education\nhttps://jewishrockland.org/adult-jewish-education/orangetown-j
 ewish-center-pride-shabbat-weekend-1679320236\n\nOrangetown Jewish Center 
 celebrates Pride Shabbat during Friday evening and Saturday morning Shabba
 t services
DTSTART;TZID=America/New_York:20230602T190000
DTEND;TZID=America/New_York:20230603T130000
END:VEVENT
END:VCALENDAR
