BEGIN:VCALENDAR
PRODID:-//eluceo/ical//2.0/EN
VERSION:2.0
CALSCALE:GREGORIAN
BEGIN:VEVENT
UID:cd2b1f10ee6267843327da14525143d4
DTSTAMP:20260421T185741Z
SUMMARY:Rabbi Scheff's Text and Context
DESCRIPTION:Jewish Federation & Foundation of Rockland County\nAdult Jewish
  Education\nhttps://jewishrockland.org/adult-jewish-education/rabbi-scheff
 s-text-and-context-1646323342\n\nJoin Rabbi Scheff to discuss the parashat
  hashabua (weekly Torah portion).
DTSTART;TZID=America/New_York:20220303T103000
DTEND;TZID=America/New_York:20220303T120000
END:VEVENT
END:VCALENDAR
