BEGIN:VCALENDAR
PRODID:-//eluceo/ical//2.0/EN
VERSION:2.0
CALSCALE:GREGORIAN
BEGIN:VEVENT
UID:7bd07b8e5ec983240a7d2e5b04aa0e90
DTSTAMP:20260422T205722Z
SUMMARY:Re-Intro to Judaism with the OJC Rabbis
DESCRIPTION:Jewish Federation & Foundation of Rockland County\nAdult Jewish
  Education\nhttps://jewishrockland.org/adult-jewish-education/re-intro-to-
 judaism-with-the-ojc-rabbis-1771124897-511234\n\nJoin the OJC Rabbis\, no 
 matter your level of knowledge\, as we seek to understand and make meaning
  of the many facets of our tradition. This month focuses on Judaism throug
 h the Arts with Rabbi Hersh
DTSTART;TZID=America/New_York:20260325T190000
DTEND;TZID=America/New_York:20260325T210000
END:VEVENT
END:VCALENDAR
