BEGIN:VCALENDAR
PRODID:-//eluceo/ical//2.0/EN
VERSION:2.0
CALSCALE:GREGORIAN
BEGIN:VEVENT
UID:d81de82106a671dc210b0d0eba822b25
DTSTAMP:20260422T053501Z
SUMMARY:S1. American Jews and Their Roles in Industry\, Business\, Arts and
  Media
DESCRIPTION:Jewish Federation & Foundation of Rockland County\nAdult Jewish
  Education\nhttps://jewishrockland.org/adult-jewish-education/s1-american-
 jews-and-their-roles-in-industry-business-arts-and-media\n\nFederation Mid
 reshet\n\nSpring 2024 Session\n\nInstructor: Leslie Goldress\n\n12 session
 s in person(online participation allowed only if necessary)\n\n\nDid you k
 now how many prominent American companies were founded by Jews? Baskin-Rob
 bins\, Ben & Jerry’s\, Dunkin Donuts\, Google\, H&R Block\, Snapple\, St
 arbucks and many more. Do you want to understand why some people say that 
 Jews run Hollywood? Do you want to know how and why Jews thrived in the ga
 rment industry? Jewish Media – power\, myth ...
DTSTART;TZID=America/New_York:20240214T093000
DTEND;TZID=America/New_York:20240214T104500
END:VEVENT
END:VCALENDAR
