BEGIN:VCALENDAR
PRODID:-//eluceo/ical//2.0/EN
VERSION:2.0
CALSCALE:GREGORIAN
BEGIN:VEVENT
UID:d43d50e99cad0fd3e70d09cd3b154b30
DTSTAMP:20260421T173712Z
SUMMARY:The Wisdom of our Sages: A Modern Exploration
DESCRIPTION:Jewish Federation & Foundation of Rockland County\nAdult Jewish
  Education\nhttps://jewishrockland.org/adult-jewish-education/the-wisdom-o
 f-our-sages-a-modern-exploration-1602527881\n\nThe Wisdom of our Sages (Pi
 rke Avot) is one of the great works of Jewish literature. In it can be fou
 nd such pearls as Hillel's famous statement: "If I am not for me\, who wil
 l be? If I am only for me\, what am I? And if not now\, when?". Inspired b
 y a recently published commentary by two exciting and creative modern rabb
 is (Gordon Tucker and Tamar Elad-Applebaum)\, we will explore the sayings 
 and new commentary in this collection together\, to reflect on our own exp
 erience as Jews in the 21st cen...
DTSTART;TZID=America/New_York:20201001T110000
DTEND;TZID=America/New_York:20201001T121500
END:VEVENT
END:VCALENDAR
