BEGIN:VCALENDAR
PRODID:-//eluceo/ical//2.0/EN
VERSION:2.0
CALSCALE:GREGORIAN
BEGIN:VEVENT
UID:8b2d4773a1368e7184d599e314807f44
DTSTAMP:20260423T120703Z
SUMMARY:Tuesdays with Talmud
DESCRIPTION:Jewish Federation & Foundation of Rockland County\nAdult Jewish
  Education\nhttps://jewishrockland.org/adult-jewish-education/tuesdays-wit
 h-talmus-1760720223-503066\n\nJoin Rabbi David Berkman of New City Jewish 
 Center as we dive into the sea of Talmud each week in a welcoming discussi
 on-based class which brings ancient wisdom to modern life. No prior backgr
 ound required - just curiosity and an open mind
DTSTART;TZID=America/New_York:20251028T193000
DTEND;TZID=America/New_York:20251028T203000
END:VEVENT
END:VCALENDAR
