BEGIN:VCALENDAR
PRODID:-//eluceo/ical//2.0/EN
VERSION:2.0
CALSCALE:GREGORIAN
BEGIN:VEVENT
UID:5caed8fcbeb23de6b775eecc9d963c1f
DTSTAMP:20260420T001842Z
SUMMARY:Yiddish Club at CSI
DESCRIPTION:Jewish Federation & Foundation of Rockland County\nAdult Jewish
  Education\nhttps://jewishrockland.org/adult-jewish-education/yiddish-club
 -at-csi-feb-478159\n\nWhile none of us are mavens\, we love this fabulous 
 language and culture so much that we want to share what we know. We will t
 alk about Yiddish\, Music\, learn and practice Yiddish through dialogue an
 d songs\, and of course\, kibbitz (chat)
DTSTART;TZID=America/New_York:20250226T200000
DTEND;TZID=America/New_York:20250226T211500
END:VEVENT
END:VCALENDAR
