BEGIN:VCALENDAR
PRODID:-//eluceo/ical//2.0/EN
VERSION:2.0
CALSCALE:GREGORIAN
BEGIN:VEVENT
UID:1595a493152e84af3d92e21fb468a3cd
DTSTAMP:20260424T231134Z
SUMMARY:Aftermath: JCC Rockland Jewish Film Festival
DESCRIPTION:Jewish Federation & Foundation of Rockland County\nAdults\nhttp
 s://jewishrockland.org/adults/aftermath-jcc-rockland-jewish-film-festival-
 59695\n\nAftermath In the opening scenes of this gripping thriller\, a Cat
 holic construction worker from Chicago pays a visit to his family’s farm
  in Poland only to find that his brother is being mysteriously threatened 
 and shunned by local townspeople. What follows is a tale of intrigue as th
 e combative brothers are drawn into investigating the village’s dark sec
 rets about its long deceased Jewish residents. While the story is entirely
  fictional\, its writer/director has drawn loosely from notoriou...
DTSTART;TZID=America/New_York:20140320T193000
DTEND;TZID=America/New_York:20140320T220000
END:VEVENT
END:VCALENDAR
