BEGIN:VCALENDAR
PRODID:-//eluceo/ical//2.0/EN
VERSION:2.0
CALSCALE:GREGORIAN
BEGIN:VEVENT
UID:35feb9974b3386778ed6baedabe55b47
DTSTAMP:20260421T071119Z
SUMMARY:CSI Annual Summer BBQ!
DESCRIPTION:Jewish Federation & Foundation of Rockland County\nAdults\nhttp
 s://jewishrockland.org/adults/csi-annual-summer-bbq-7409\n\nCSI Annual Sum
 mer BBQ!
DTSTART;TZID=America/New_York:20130811T110000
DTEND;TZID=America/New_York:20130811T130000
END:VEVENT
END:VCALENDAR
