BEGIN:VCALENDAR
PRODID:-//eluceo/ical//2.0/EN
VERSION:2.0
CALSCALE:GREGORIAN
BEGIN:VEVENT
UID:8982b26295f3638042b770b08e000df3
DTSTAMP:20260423T000646Z
SUMMARY:CSI Sisterhood Pool Party
DESCRIPTION:Jewish Federation & Foundation of Rockland County\nAdults\nhttp
 s://jewishrockland.org/adults/csi-sisterhood-pool-party-7427\n\nCSI Sister
 hood Pool Party
DTSTART;TZID=America/New_York:20130731T180000
DTEND;TZID=America/New_York:20130731T210000
END:VEVENT
END:VCALENDAR
