BEGIN:VCALENDAR
PRODID:-//eluceo/ical//2.0/EN
VERSION:2.0
CALSCALE:GREGORIAN
BEGIN:VEVENT
UID:fc3baf842b3a98264829d81ef7e8218f
DTSTAMP:20260420T170219Z
SUMMARY:Family Friendly Friday Night Service at CSI
DESCRIPTION:Jewish Federation & Foundation of Rockland County\nAdults\nhttp
 s://jewishrockland.org/adults/family-friendly-friday-night-service-at-csi-
 55970\n\nFamily Friendly Friday Night Service at CSI
DTSTART;TZID=America/New_York:20131220T180000
DTEND;TZID=America/New_York:20131220T190000
END:VEVENT
END:VCALENDAR
