BEGIN:VCALENDAR
PRODID:-//eluceo/ical//2.0/EN
VERSION:2.0
CALSCALE:GREGORIAN
BEGIN:VEVENT
UID:e1e771887034a6e202579e7d67997c18
DTSTAMP:20260419T211447Z
SUMMARY:Jews on the Hudson- Sushi in the Sukkah
DESCRIPTION:Jewish Federation & Foundation of Rockland County\nAdults\nhttp
 s://jewishrockland.org/adults/jews-on-the-hudson--sushi-in-the-sukkah-7470
 \n\nJews on the Hudson- Sushi in the Sukkah
DTSTART;TZID=America/New_York:20130922T160000
DTEND;TZID=America/New_York:20130922T180000
END:VEVENT
END:VCALENDAR
