BEGIN:VCALENDAR
PRODID:-//eluceo/ical//2.0/EN
VERSION:2.0
CALSCALE:GREGORIAN
BEGIN:VEVENT
UID:72a372af195eab02f6e17c6f34415783
DTSTAMP:20260421T121050Z
SUMMARY:Munchkins & Mishpacha Class at CSI
DESCRIPTION:Jewish Federation & Foundation of Rockland County\nAdults\nhttp
 s://jewishrockland.org/adults/munchkins--mishpacha-class-at-csi-7403\n\nMu
 nchkins & Mishpacha Class at CSI
DTSTART;TZID=America/New_York:20130711T100000
DTEND;TZID=America/New_York:20130711T110000
END:VEVENT
END:VCALENDAR
