BEGIN:VCALENDAR
PRODID:-//eluceo/ical//2.0/EN
VERSION:2.0
CALSCALE:GREGORIAN
BEGIN:VEVENT
UID:1e6df17375f9d4d696f81540a09b8486
DTSTAMP:20260423T101546Z
SUMMARY:PJ Library & CSI: Lag B’Omer BBQ
DESCRIPTION:Jewish Federation & Foundation of Rockland County\nAdults\nhttp
 s://jewishrockland.org/adults/pj-library--csi-lag-bomer-bbq-7358\n\nPJ Lib
 rary & CSI: Lag B’Omer BBQ
DTSTART;TZID=America/New_York:20130428T110000
DTEND;TZID=America/New_York:20130428T130000
END:VEVENT
END:VCALENDAR
