BEGIN:VCALENDAR
PRODID:-//eluceo/ical//2.0/EN
VERSION:2.0
CALSCALE:GREGORIAN
BEGIN:VEVENT
UID:bdd9b1aaad01680c28779d9dd3bf3a58
DTSTAMP:20260421T063353Z
SUMMARY:Purim Bash and Open Bar for 20s\, 30s\, and 40s
DESCRIPTION:Jewish Federation & Foundation of Rockland County\nAdults\nhttp
 s://jewishrockland.org/adults/purim-bash-and-open-bar-for-20s-30s-and-40s-
 7333\n\nPurim Bash and Open Bar for 20s\, 30s\, and 40s
DTSTART;TZID=America/New_York:20130223T210000
DTEND;TZID=America/New_York:20130224T000000
END:VEVENT
END:VCALENDAR
