BEGIN:VCALENDAR
PRODID:-//eluceo/ical//2.0/EN
VERSION:2.0
CALSCALE:GREGORIAN
BEGIN:VEVENT
UID:15a308f4ac2f1e2cdcc8ac41e1dc6497
DTSTAMP:20260419T223347Z
SUMMARY:Rockland Jewish Academy Poker Night
DESCRIPTION:Jewish Federation & Foundation of Rockland County\nAdults\nhttp
 s://jewishrockland.org/adults/rockland-jewish-academy-poker-night-55880\n\
 nRJA Poker Night
DTSTART;TZID=America/New_York:20130306T190000
DTEND;TZID=America/New_York:20130306T230000
END:VEVENT
END:VCALENDAR
