BEGIN:VCALENDAR
PRODID:-//eluceo/ical//2.0/EN
VERSION:2.0
CALSCALE:GREGORIAN
BEGIN:VEVENT
UID:975e2999b5c12a4efb9e17bdcb6f17e3
DTSTAMP:20260421T140551Z
SUMMARY:Shalom\, Shabbat! Tot Shabbat Service
DESCRIPTION:Jewish Federation & Foundation of Rockland County\nAdults\nhttp
 s://jewishrockland.org/adults/shalom-shabbat-tot-shabbat-service-55861\n\n
 Shalom\, Shabbat! Tot Shabbat Service
DTSTART;TZID=America/New_York:20130413T103000
DTEND;TZID=America/New_York:20130413T113000
END:VEVENT
END:VCALENDAR
