BEGIN:VCALENDAR
PRODID:-//eluceo/ical//2.0/EN
VERSION:2.0
CALSCALE:GREGORIAN
BEGIN:VEVENT
UID:98bd1b316d5e70a06617f31082a80c48
DTSTAMP:20260421T171306Z
SUMMARY:Shalom\, Shabbat! Tot Shabbat Service
DESCRIPTION:Jewish Federation & Foundation of Rockland County\nAdults\nhttp
 s://jewishrockland.org/adults/shalom-shabbat-tot-shabbat-service-55864\n\n
 Shalom\, Shabbat! Tot Shabbat Service
DTSTART;TZID=America/New_York:20130309T103000
DTEND;TZID=America/New_York:20130309T113000
END:VEVENT
END:VCALENDAR
