BEGIN:VCALENDAR
PRODID:-//eluceo/ical//2.0/EN
VERSION:2.0
CALSCALE:GREGORIAN
BEGIN:VEVENT
UID:f2d59544a5dabd1ac929ccfa0b37a2d4
DTSTAMP:20260424T173421Z
SUMMARY:Women's Philanthropy Spring Gala with Miss Israel 2014
DESCRIPTION:Jewish Federation & Foundation of Rockland County\nAdults\nhttp
 s://jewishrockland.org/adults/spring-gala-miss-israel-13437\n\nThe Jewish 
 Federation of Rockland is proud to announce that Miss Israel\, Mor Maman\,
  will be the guest speaker at our Women’s Philanthropy Community Outreac
 h Event on Thursday\, May 20\, 2014. 
DTSTART;TZID=America/New_York:20140520T180000
DTEND;TZID=America/New_York:20140520T220000
END:VEVENT
END:VCALENDAR
