BEGIN:VCALENDAR
PRODID:-//eluceo/ical//2.0/EN
VERSION:2.0
CALSCALE:GREGORIAN
BEGIN:VEVENT
UID:a326246ee132d33e3a67e556fae58f63
DTSTAMP:20260425T174116Z
SUMMARY:Sunday Morning Coffee and Meet & Greet at Nanuet Hebrew Center
DESCRIPTION:Jewish Federation & Foundation of Rockland County\nAdults\nhttp
 s://jewishrockland.org/adults/sunday-morning-coffee-and-meet--greet-at-nan
 uet-hebrew-center-7492\n\nSunday Morning Meet & Greet at NHC!
DTSTART;TZID=America/New_York:20131006T090000
DTEND;TZID=America/New_York:20131006T113000
END:VEVENT
END:VCALENDAR
