BEGIN:VCALENDAR
PRODID:-//eluceo/ical//2.0/EN
VERSION:2.0
CALSCALE:GREGORIAN
BEGIN:VEVENT
UID:f75c98e87a017b1f5aa9fbceaad0fb41
DTSTAMP:20260422T013330Z
SUMMARY:Tu B’Shevat Family Seder & Pajama Havdallah Party
DESCRIPTION:Jewish Federation & Foundation of Rockland County\nAdults\nhttp
 s://jewishrockland.org/adults/tu-bshevat-family-seder--pajama-havdallah-pa
 rty-7259\n\nTu B’Shevat Family Seder & Pajama Havd
DTSTART;TZID=America/New_York:20130126T170000
DTEND;TZID=America/New_York:20130126T190000
END:VEVENT
END:VCALENDAR
