BEGIN:VCALENDAR
PRODID:-//eluceo/ical//2.0/EN
VERSION:2.0
CALSCALE:GREGORIAN
BEGIN:VEVENT
UID:bfa5336516ae7843b91b8634a61a38ca
DTSTAMP:20260420T051413Z
SUMMARY:20 Million Minutes
DESCRIPTION:Jewish Federation & Foundation of Rockland County\nCommunity Ca
 lendar\nhttps://jewishrockland.org/calendar/20-million-minutes\n\n20 Milli
 on Minutes
DTSTART;TZID=America/New_York:20130316T203000
DTEND;TZID=America/New_York:20130316T220000
END:VEVENT
END:VCALENDAR
