BEGIN:VCALENDAR
PRODID:-//eluceo/ical//2.0/EN
VERSION:2.0
CALSCALE:GREGORIAN
BEGIN:VEVENT
UID:c5146e059adc02b6dd07b4e8cfcd5d35
DTSTAMP:20260420T034940Z
SUMMARY:2016 Junior Maccabi Games
DESCRIPTION:Jewish Federation & Foundation of Rockland County\nCommunity Ca
 lendar\nhttps://jewishrockland.org/calendar/2016-junior-maccabi-games\n\nE
 vent will take place in Cherry Hill\, NJ. Visit jccrockland.org for more i
 nformation.
DTSTART;TZID=America/New_York:20160515T090000
DTEND;TZID=America/New_York:20160515T170000
END:VEVENT
END:VCALENDAR
