BEGIN:VCALENDAR
PRODID:-//eluceo/ical//2.0/EN
VERSION:2.0
CALSCALE:GREGORIAN
BEGIN:VEVENT
UID:dcf0032b31803497e4eee3594b1f8667
DTSTAMP:20260423T161954Z
SUMMARY:2017 Celebrate Israel Parade
DESCRIPTION:Jewish Federation & Foundation of Rockland County\nCommunity Ca
 lendar\nhttps://jewishrockland.org/calendar/2017-celebrate-israel-parade-2
 07371\n\nMarch with your Rockland community down Fifth Avenue in New York 
 City! This year’s parade theme is “Celebrate Israel All Together\,” 
 commemorating the 50-year anniversary of Jerusalem’s reunification.\n\nU
 PDATE: Buses will depart from the Jewish Community Campus Sunday at 12:30p
 m\, preceded by a light brunch at 11:30am. Rockland's parade "step off" ti
 me is 2:15pm. \n\nThe meeting place for Rockland is Section 14W located a
 t 53rd Street between 5th and 6th Avenues.\n\nT-Shirts will ...
DTSTART;TZID=America/New_York:20170604T113000
DTEND;TZID=America/New_York:20170604T170000
END:VEVENT
END:VCALENDAR
