BEGIN:VCALENDAR
PRODID:-//eluceo/ical//2.0/EN
VERSION:2.0
CALSCALE:GREGORIAN
BEGIN:VEVENT
UID:aceb8e50fc841eaec2c9a34fd5bbfe75
DTSTAMP:20260420T064459Z
SUMMARY:2nd Night of Passover Community Family Seder at Nanuet Hebrew Cente
 r
DESCRIPTION:Jewish Federation & Foundation of Rockland County\nCommunity Ca
 lendar\nhttps://jewishrockland.org/calendar/2nd-night-of-passover-communit
 y-family-seder-at-nanuet-hebrew-center\n\nWe welcome you to join us at Nan
 uet Hebrew Center's 8th Annual 2nd Night of Passover Community Family Sede
 r.  \n\nFree for everyone under 21\; only $25 per adult (21 and above).  \
 nAlways a lively and meaningful time\; open to the entire community.\n\nIn
 cludes Kosher for Passover roasted chicken dinner\, or vegetarian option\,
  plus chicken fingers for the kids.\n\nPlease click here for the full deta
 ils:  ...
DTSTART;TZID=America/New_York:20170411T191500
DTEND;TZID=America/New_York:20170411T223000
END:VEVENT
END:VCALENDAR
