BEGIN:VCALENDAR
PRODID:-//eluceo/ical//2.0/EN
VERSION:2.0
CALSCALE:GREGORIAN
BEGIN:VEVENT
UID:484eb14069fe9303418d6f4f87246e56
DTSTAMP:20260424T231324Z
SUMMARY:2nd Night of Passover Community Family Seder at Nanuet Hebrew Cente
 r
DESCRIPTION:Jewish Federation & Foundation of Rockland County\nCommunity Ca
 lendar\nhttps://jewishrockland.org/calendar/2nd-night-of-passover-communit
 y-family-seder-at-nanuet-hebrew-center-2018\n\nWe welcome you to join us a
 t Nanuet Hebrew Center's 9th Annual 2nd Night of Passover Community Family
  Seder.\n\n- Free for Everyone Under 21 ... only $25 per adult (21 and abo
 ve)!\n- SInging and Games for the Kids!\n- A lively and meaningful time ..
 . open to the entire Community!\n\nOur family friendly Seder at Nanuet Heb
 rew Center includes a Kosher for Passover roasted chicken dinner\, or vege
 tarian option\, plus chicken fingers for the kids!\n\nWe will be gathering
  at 7:45pm for evening...
DTSTART;TZID=America/New_York:20180331T194500
DTEND;TZID=America/New_York:20180331T230000
END:VEVENT
END:VCALENDAR
