BEGIN:VCALENDAR
PRODID:-//eluceo/ical//2.0/EN
VERSION:2.0
CALSCALE:GREGORIAN
BEGIN:VEVENT
UID:45c95b0afc1926948848bcffa45e07d7
DTSTAMP:20260425T222301Z
SUMMARY:2nd Night of Passover Community Seder at Nanuet Hebrew Center
DESCRIPTION:Jewish Federation & Foundation of Rockland County\nCommunity Ca
 lendar\nhttps://jewishrockland.org/calendar/2nd-night-of-passover-communit
 y-seder-at-nanuet-hebrew-center-2016\n\nNanuet Hebrew Center will hold its
  7th annual Passover Seder\, open to the Community\, on Saturday night\, A
 pril 23rd.  We will be gathering at 8:30pm.  Please contact Nanuet Hebrew 
 Center at (845) 708-9181 or office@nanuethc.org for all the details! 
DTSTART;TZID=America/New_York:20160423T203000
DTEND;TZID=America/New_York:20160423T233000
END:VEVENT
END:VCALENDAR
