BEGIN:VCALENDAR
PRODID:-//eluceo/ical//2.0/EN
VERSION:2.0
CALSCALE:GREGORIAN
BEGIN:VEVENT
UID:267f5e2291b04e882471c8593c940b1a
DTSTAMP:20260421T213221Z
SUMMARY:Federation Board Meeting
DESCRIPTION:Jewish Federation & Foundation of Rockland County\nCommunity Ca
 lendar\nhttps://jewishrockland.org/calendar/Federation-board-meeting-feb-2
 018-226365\n\n6:30 p.m. Executive Board Meeting - Library\n7:30 p.m. Gener
 al Board Meeting - Adler Board Room
DTSTART;TZID=America/New_York:20180212T183000
DTEND;TZID=America/New_York:20180212T213000
END:VEVENT
END:VCALENDAR
