BEGIN:VCALENDAR
PRODID:-//eluceo/ical//2.0/EN
VERSION:2.0
CALSCALE:GREGORIAN
BEGIN:VEVENT
UID:82de8d4c87a796ca2a2387bfb68ddd84
DTSTAMP:20260419T215346Z
SUMMARY:JCC Rockland Founder's Dinner Dance 2017
DESCRIPTION:Jewish Federation & Foundation of Rockland County\nCommunity Ca
 lendar\nhttps://jewishrockland.org/calendar/JCC-rockland-founders-dinner-d
 ance-2017\n\nJCC Rockland Founder's Dinner Dance. Visit jccrockland.org fo
 r more information.
DTSTART;TZID=America/New_York:20170402T170000
DTEND;TZID=America/New_York:20170402T200000
END:VEVENT
END:VCALENDAR
