BEGIN:VCALENDAR
PRODID:-//eluceo/ical//2.0/EN
VERSION:2.0
CALSCALE:GREGORIAN
BEGIN:VEVENT
UID:0c6078f3358d202f8693a378bdf566e8
DTSTAMP:20260421T161605Z
SUMMARY:Nanuet Hebrew Center Rolling Boutique
DESCRIPTION:Jewish Federation & Foundation of Rockland County\nCommunity Ca
 lendar\nhttps://jewishrockland.org/calendar/NHC-rolling-boutique-2016\n\nM
 an with Rolling Cart - Most items $7 - Show Specials - All ages welcome
DTSTART;TZID=America/New_York:20160410T090000
DTEND;TZID=America/New_York:20160410T140000
END:VEVENT
END:VCALENDAR
