BEGIN:VCALENDAR
PRODID:-//eluceo/ical//2.0/EN
VERSION:2.0
CALSCALE:GREGORIAN
BEGIN:VEVENT
UID:4eb09ba089a91789623709d0c970e4d8
DTSTAMP:20260425T125921Z
SUMMARY:Nanuet Hebrew Center Sukkot Tot Program
DESCRIPTION:Jewish Federation & Foundation of Rockland County\nCommunity Ca
 lendar\nhttps://jewishrockland.org/calendar/NHC-sukkot-tot-program-2016\n\
 nSukkot Tot Program - Ages 1 - 5 - Enjoy service\, apple wrapping and song
 . Kiddush lunch to follow. No charge - Must RSVP to school@nanuethc.org
DTSTART;TZID=America/New_York:20161017T114500
DTEND;TZID=America/New_York:20161017T123000
END:VEVENT
END:VCALENDAR
