BEGIN:VCALENDAR
PRODID:-//eluceo/ical//2.0/EN
VERSION:2.0
CALSCALE:GREGORIAN
BEGIN:VEVENT
UID:1a209b50054fb6d6570e821268a17359
DTSTAMP:20260422T040821Z
SUMMARY:RJFS Unsung Heroes 2017
DESCRIPTION:Jewish Federation & Foundation of Rockland County\nCommunity Ca
 lendar\nhttps://jewishrockland.org/calendar/RJFS-unsung-heroes-2017\n\nPle
 ase join Rockland Jewish Family Service as we honor our 2017 Unsung Heroes
 .
DTSTART;TZID=America/New_York:20171203T100000
DTEND;TZID=America/New_York:20171203T120000
END:VEVENT
END:VCALENDAR
