BEGIN:VCALENDAR
PRODID:-//eluceo/ical//2.0/EN
VERSION:2.0
CALSCALE:GREGORIAN
BEGIN:VEVENT
UID:b1fe6bfe57f49c1a2dfd991af8b3c5e8
DTSTAMP:20260422T204337Z
SUMMARY:8 Days of Oil 
DESCRIPTION:Jewish Federation & Foundation of Rockland County\nCommunity Ca
 lendar\nhttps://jewishrockland.org/calendar/RJI-8-days-of-oil\n\nMeet us a
 t Fairway Market in Nanuet to taste different flavors of oil\, learn about
  the role of oil in the Chanukah story\, find out about Chanukah foods and
  customs. 
DTSTART;TZID=America/New_York:20151208T110000
DTEND;TZID=America/New_York:20151208T190000
END:VEVENT
END:VCALENDAR
